BEGIN:VCALENDAR
VERSION:2.0
PRODID:-//Se me cae la casa encima - ECPv5.16.0//NONSGML v1.0//EN
CALSCALE:GREGORIAN
METHOD:PUBLISH
X-WR-CALNAME:Se me cae la casa encima
X-ORIGINAL-URL:https://semecaelacasaencima.com
X-WR-CALDESC:Eventos para Se me cae la casa encima
BEGIN:VTIMEZONE
TZID:Europe/Madrid
BEGIN:DAYLIGHT
TZOFFSETFROM:+0100
TZOFFSETTO:+0200
TZNAME:CEST
DTSTART:20190331T010000
END:DAYLIGHT
BEGIN:STANDARD
TZOFFSETFROM:+0200
TZOFFSETTO:+0100
TZNAME:CET
DTSTART:20191027T010000
END:STANDARD
END:VTIMEZONE
BEGIN:VEVENT
DTSTART;VALUE=DATE:20190602
DTEND;VALUE=DATE:20190603
DTSTAMP:20260423T154550
CREATED:20190528T080619Z
LAST-MODIFIED:20190619T104929Z
UID:36716-1559433600-1559519999@semecaelacasaencima.com
SUMMARY:Visitas teatralizadas en Tierras de Iranzu
DESCRIPTION:Escucha atentamente las anécdotas y déjate cautivar por las historietas que curiosos personajes como una princesa medieval\, un rey navarro\, un bufón\, una peregrina\, una bruja o incluso un ser mitológico te contarán mientras te guían por un bosque\, un monumento o por el centro histórico de una localidad. \nToda una oportunidad realmente divertida y especial para empaparse de historia y cultura a través de los relatos contados de una forma amena\, atractiva y envuelta en una capa de humor\, donde esos seres de mundos imaginarios se convertirán en personajes muy cercanos y familiares capaces de trasladarnos a otras épocas y de seducir por igual tanto a grandes como a pequeños. \n¿Te lo vas a perder? \n¿DÓNDE? \n\nTierras de Irantzu.\n– Visitas teatralizadas “In vino veritas” al Monasterio de Irantzu con degustación de productos de la tierra\, días 16\, 22 (18 h)\, 23 (12 h y 18 h) y 30 de junio.\n– Visitas “De románico danza y vino” 2 de junio\n\nToda la información\, AQUÍ
URL:https://semecaelacasaencima.com/eventos/visitas-teatralizadas-tierras-iranzu/
LOCATION:Monasterio de Iranzu\, Abárzuza\, Navarra\, 31178\, España
CATEGORIES:Visitas
ATTACH;FMTTYPE=image/jpeg:https://semecaelacasaencima.com/wp-content/uploads/2019/05/Tierras-Iranzu.jpg
END:VEVENT
END:VCALENDAR