BEGIN:VCALENDAR
VERSION:2.0
PRODID:-//Se me cae la casa encima - ECPv5.16.0//NONSGML v1.0//EN
CALSCALE:GREGORIAN
METHOD:PUBLISH
X-WR-CALNAME:Se me cae la casa encima
X-ORIGINAL-URL:https://semecaelacasaencima.com
X-WR-CALDESC:Eventos para Se me cae la casa encima
BEGIN:VTIMEZONE
TZID:Europe/Madrid
BEGIN:DAYLIGHT
TZOFFSETFROM:+0100
TZOFFSETTO:+0200
TZNAME:CEST
DTSTART:20180325T010000
END:DAYLIGHT
BEGIN:STANDARD
TZOFFSETFROM:+0200
TZOFFSETTO:+0100
TZNAME:CET
DTSTART:20181028T010000
END:STANDARD
END:VTIMEZONE
BEGIN:VEVENT
DTSTART;TZID=Europe/Madrid:20180316T190000
DTEND;TZID=Europe/Madrid:20180316T210000
DTSTAMP:20260424T010904
CREATED:20180312T183808Z
LAST-MODIFIED:20180312T185833Z
UID:21679-1521226800-1521234000@semecaelacasaencima.com
SUMMARY:Taller de pulseras en el Espacio joven de Tudela
DESCRIPTION:Taller de pulseras\nEl viernes 16 a las 19:00 h. haremos el taller de pulseras en el Espacio Joven de Tudela ¡Apúntate y ven a diseñar tus propias pulseras con nosotros! \nEspacio Joven\nEspacio de encuentro para jóvenes de Tudela\, cuyo objetivo principal es fomentar el encuentro\, la comunicación\, la información y la promoción de la propia juventud de la localidad y la ocupación positiva del ocio y del tiempo libre. \n \nServicios fijos \nEspacio de encuentro y de reunión\, juegos de mesa\, tebeoteca\, ping-pong\, 4 ordenadores con conexión a internet\, información e inscripciones para actividades de juventud\, futbolín\, 4 consolas (Play Station 3\, Play Station 4\, Wii y Xbox)\, Equipo Dj y Diana Electrónica. \nESPACIO JOVEN TUDELA \nHorarios \nViernes: De 17:00 a 22:00 h. \nSábado: De 16:00 a 22:00 h. \nDomingo: De 16:00 a 21:00 h. \nTarifas \nEntrada diaria: 2 € \nBono de 6 usos: 10 € \nBono de 15 usos: 20 € \nEstas tarifas dan derecho al uso de los servicios fijos y Materiales de los que dispone el Espacio Joven\, además de la participación en las actividades programadas (aunque es necesario inscripción previa). \nLas inscripciones se realizarán en el propio centro el fin de semana anterior a la actividad. Excepcionalmente y si quedan plazas\, se podrán hacer inscripciones en el propio centro antes del inicio de la actividad. Máximo 15 plazas. \n¡Ven y aprende a hacer tus propias pulseras!
URL:https://semecaelacasaencima.com/eventos/taller-pulseras-espacio-joven-tudela/
CATEGORIES:Talleres
ATTACH;FMTTYPE=image/jpeg:https://semecaelacasaencima.com/wp-content/uploads/TALLER-PULSERAS.jpg
END:VEVENT
END:VCALENDAR