BEGIN:VCALENDAR
VERSION:2.0
PRODID:-//Se me cae la casa encima - ECPv5.16.0//NONSGML v1.0//EN
CALSCALE:GREGORIAN
METHOD:PUBLISH
X-WR-CALNAME:Se me cae la casa encima
X-ORIGINAL-URL:https://semecaelacasaencima.com
X-WR-CALDESC:Eventos para Se me cae la casa encima
BEGIN:VTIMEZONE
TZID:Europe/Madrid
BEGIN:DAYLIGHT
TZOFFSETFROM:+0100
TZOFFSETTO:+0200
TZNAME:CEST
DTSTART:20180325T010000
END:DAYLIGHT
BEGIN:STANDARD
TZOFFSETFROM:+0200
TZOFFSETTO:+0100
TZNAME:CET
DTSTART:20181028T010000
END:STANDARD
END:VTIMEZONE
BEGIN:VEVENT
DTSTART;TZID=Europe/Madrid:20181026T190000
DTEND;TZID=Europe/Madrid:20181026T203000
DTSTAMP:20260423T200448
CREATED:20181003T124244Z
LAST-MODIFIED:20181023T114246Z
UID:28603-1540580400-1540585800@semecaelacasaencima.com
SUMMARY:Taller del viernes en el Espacio Joven
DESCRIPTION:Todos los viernes hay un taller diferente en el Espacio Joven de Tudela. Este centro para niños y niñas a partir de 10 años\, se llena de chavalería las tardes de los viernes\, con talleres adaptados a su edad.  \nCalendario del Espacio Joven de octubre 2018 a enero 2019\n\n26 de octubre: Taller de Decoración de Halloween\n2 de noviembre: Campeonato Call of Duty\n9 de noviembre: Taller de Hamma Beads\n16 de noviembre: Campeonato de Ping Pong\n23 de noviembre: Taller de Jabones de Frutas\n30 de noviembre: Campeonato NBA 2K17\n7 de diciembre: Decoración de USB\n14 de diciembre: Taller de Adornos Navideños\n21 de diciembre: Campeonato de Bang\n28 de diciembre: Taller de Galletas Navideñas\n4 de enero: Campeonato Super Smash Bross\n11 de enero: Taller de Fundas para Móvil\n18 de enero: Campeonato 1/2 Switch\n25 de enero: Taller de Cupcakes\n\nEspacio Joven\nEspacio de encuentro para jóvenes de Tudela\, cuyo objetivo principal es fomentar el encuentro\, la comunicación\, la información y la promoción de la propia juventud de la localidad y la ocupación positiva del ocio y del tiempo libre. \nServicios fijos\nEspacio de encuentro y de reunión\, juegos de mesa\, tebeoteca\, ping-pong\, 4 ordenadores con conexión a internet\, información e inscripciones para actividades de juventud\, futbolín\, 4 consolas (Play Station 3\, Play Station 4\, Wii y Xbox)\, Equipo Dj y Diana Electrónica. \nHorarios\nViernes: De 17:00 a 22:00 h. \nSábado: De 16:00 a 22:00 h. \nDomingo: De 16:00 a 21:00 h. \nTarifas \nEntrada diaria: 2 € \nBono de 6 usos: 10 € \nBono de 15 usos: 20 € \nEstas tarifas dan derecho al uso de los servicios fijos y Materiales de los que dispone el Espacio Joven\, además de la participación en las actividades programadas (aunque es necesario inscripción previa). \nLas inscripciones se realizarán en el propio centro el fin de semana anterior a la actividad. Excepcionalmente y si quedan plazas\, se podrán hacer inscripciones en el propio centro antes del inicio de la actividad. Máximo 15 plazas. \nTambién puedes enviarles un mail a ociojoven@tudela.es
URL:https://semecaelacasaencima.com/eventos/taller-del-viernes-en-el-espacio-joven-2018-10-26/
LOCATION:Centro Cívico Lestonnac\, Calle Camino San Marcial\, 27\, Tudela\, Navarra\, 31500\, España
CATEGORIES:Talleres
ATTACH;FMTTYPE=image/jpeg:https://semecaelacasaencima.com/wp-content/uploads/2018/10/Espacio-Joven-26-octubre.jpg
END:VEVENT
END:VCALENDAR