BEGIN:VCALENDAR
VERSION:2.0
PRODID:-//Se me cae la casa encima - ECPv5.16.0//NONSGML v1.0//EN
CALSCALE:GREGORIAN
METHOD:PUBLISH
X-WR-CALNAME:Se me cae la casa encima
X-ORIGINAL-URL:https://semecaelacasaencima.com
X-WR-CALDESC:Eventos para Se me cae la casa encima
BEGIN:VTIMEZONE
TZID:Europe/Madrid
BEGIN:DAYLIGHT
TZOFFSETFROM:+0100
TZOFFSETTO:+0200
TZNAME:CEST
DTSTART:20180325T010000
END:DAYLIGHT
BEGIN:STANDARD
TZOFFSETFROM:+0200
TZOFFSETTO:+0100
TZNAME:CET
DTSTART:20181028T010000
END:STANDARD
END:VTIMEZONE
BEGIN:VEVENT
DTSTART;VALUE=DATE:20180716
DTEND;VALUE=DATE:20180723
DTSTAMP:20260423T141513
CREATED:20170707T123547Z
LAST-MODIFIED:20180718T083624Z
UID:13706-1531699200-1532303999@semecaelacasaencima.com
SUMMARY:Semana Medieval de Estella
DESCRIPTION:Banderas\, pendones\, antorchas y trajes medievales trasportan al visitante a plena Edad Media. A mediados de julio\, Estella-Lizarra celebra su semana medieval. Tras el pregón de inauguración leído por el mismísimo rey navarro\, comienza un programa de actos muy variado: degustaciones de recetas medievales\, actuaciones de juglares\, luchas entre caballeros\, habilidades artesanales\, continuas representaciones callejeras\, espectáculos de cetrería\, conciertos\, cenas medievales\, mercados y mucho más. \nLa Semana Medieval de Estella en 2018\nUna fiesta con solera en la que se vuelca la ciudad al completo. El pase de modelos medievales por calles y comercios está asegurado. \nDurante el fin de semana del 20 al 22 de Julio los comercios y toda Estella vuelven a la Edad Media. En el barrio de San Juan y la rua de los oficios se realiza un mercado de antaño con los productos de aquella época. Incluso los productos artesanos como cuero\, cristal\, madera\, se fabrican allí mismo\, transmitiendo como era el oficio. \nLa semana tiene una faceta más académica ya que se imparten conferencias y ponencias de todo tipo\, en la semana de de Estudios Medievales\, por los numerosos expertos y estudiosos que se concentran en Estella. \nEn definitiva se trata de una fiesta de gran interés turístico\, comercial y cultural para cualquier visitante y una inmejorable oportunidad para conocer el casco histórico y monumental de nuestra ciudad haciéndonos una idea de cómo debió ser la vida en la Edad Media. \nPodéis ver el programa completo AQUÍ
URL:https://semecaelacasaencima.com/eventos/semana-medieval-estella/
CATEGORIES:Calle
ATTACH;FMTTYPE=image/png:https://semecaelacasaencima.com/wp-content/uploads/Semana-Medieval-estella.png
END:VEVENT
END:VCALENDAR