BEGIN:VCALENDAR
VERSION:2.0
PRODID:-//Se me cae la casa encima - ECPv5.16.0//NONSGML v1.0//EN
CALSCALE:GREGORIAN
METHOD:PUBLISH
X-WR-CALNAME:Se me cae la casa encima
X-ORIGINAL-URL:https://semecaelacasaencima.com
X-WR-CALDESC:Eventos para Se me cae la casa encima
BEGIN:VTIMEZONE
TZID:Europe/Madrid
BEGIN:DAYLIGHT
TZOFFSETFROM:+0100
TZOFFSETTO:+0200
TZNAME:CEST
DTSTART:20170326T010000
END:DAYLIGHT
BEGIN:STANDARD
TZOFFSETFROM:+0200
TZOFFSETTO:+0100
TZNAME:CET
DTSTART:20171029T010000
END:STANDARD
END:VTIMEZONE
BEGIN:VEVENT
DTSTART;TZID=Europe/Madrid:20171224T180000
DTEND;TZID=Europe/Madrid:20171224T200000
DTSTAMP:20260421T203621
CREATED:20171224T090656Z
LAST-MODIFIED:20171224T090727Z
UID:18548-1514138400-1514145600@semecaelacasaencima.com
SUMMARY:El Olentzero llega a Tudela
DESCRIPTION:Un año más el Olentzero llegará a la Peña Beterri\, invitado por la Asociación de amigos y amigas del Olentzero de Tudela\, y recibirá a todos los niños y niñas que se acerquen\, a las 19:00 h. comenzará su tradicional desfile desde C/Serralta hasta la Plaza de los Fueros.
URL:https://semecaelacasaencima.com/eventos/olentzero-llega-tudela/
CATEGORIES:Visitas
ATTACH;FMTTYPE=image/jpeg:https://semecaelacasaencima.com/wp-content/uploads/OLENTZERO-2017-TUDELA.jpg
END:VEVENT
END:VCALENDAR