BEGIN:VCALENDAR
VERSION:2.0
PRODID:-//Se me cae la casa encima - ECPv5.16.0//NONSGML v1.0//EN
CALSCALE:GREGORIAN
METHOD:PUBLISH
X-WR-CALNAME:Se me cae la casa encima
X-ORIGINAL-URL:https://semecaelacasaencima.com
X-WR-CALDESC:Eventos para Se me cae la casa encima
BEGIN:VTIMEZONE
TZID:Europe/Madrid
BEGIN:DAYLIGHT
TZOFFSETFROM:+0100
TZOFFSETTO:+0200
TZNAME:CEST
DTSTART:20160327T010000
END:DAYLIGHT
BEGIN:STANDARD
TZOFFSETFROM:+0200
TZOFFSETTO:+0100
TZNAME:CET
DTSTART:20161030T010000
END:STANDARD
END:VTIMEZONE
BEGIN:VEVENT
DTSTART;TZID=Europe/Madrid:20160621T190000
DTEND;TZID=Europe/Madrid:20160621T230000
DTSTAMP:20260424T061510
CREATED:20160619T202807Z
LAST-MODIFIED:20160619T202807Z
UID:3257-1466535600-1466550000@semecaelacasaencima.com
SUMMARY:Observaciones astronómicas
DESCRIPTION:Un plan muy original e interesante a la vez ¡para todas las edades!  \nEn la tarde-noche del martes 21 de junio en la Avda. Huertas Mayores  la Agrupación Navarra de Astronomía nos invita a mirar al cielo con “otros ojos” . Veremos el sol y las estrellas como nunca. Vamos a poder observar llamaradas solares\, la luna\, los planetas\, galaxias\, cúmulos estelares\, nebulosas\, estrellas dobles. \nMayores y pequeños tenemos una gran oportunidad para disfrutar de estas observaciones astronómicas con las que todos aprenderemos mucho. \nSabemos que es el día en el que casi todos los colegios celebran la fiesta fin de curso en la que grandes y pequeños acabamos cansadísimos pero estamos seguras de que el sol y las estrellas no nos van a defraudar. \nY además del 20 de junio al 20 de julio tendremos en la Casa del Almirante la exposición “El Universo para que lo descubras”\, un buen plan como alternativa al piscineo.
URL:https://semecaelacasaencima.com/eventos/observaciones-astronomicas/
CATEGORIES:Calle
ATTACH;FMTTYPE=image/png:https://semecaelacasaencima.com/wp-content/uploads/observacion-sol-y-estrellas.png
END:VEVENT
END:VCALENDAR