BEGIN:VCALENDAR
VERSION:2.0
PRODID:-//Se me cae la casa encima - ECPv5.16.0//NONSGML v1.0//EN
CALSCALE:GREGORIAN
METHOD:PUBLISH
X-WR-CALNAME:Se me cae la casa encima
X-ORIGINAL-URL:https://semecaelacasaencima.com
X-WR-CALDESC:Eventos para Se me cae la casa encima
BEGIN:VTIMEZONE
TZID:Europe/Madrid
BEGIN:DAYLIGHT
TZOFFSETFROM:+0100
TZOFFSETTO:+0200
TZNAME:CEST
DTSTART:20180325T010000
END:DAYLIGHT
BEGIN:STANDARD
TZOFFSETFROM:+0200
TZOFFSETTO:+0100
TZNAME:CET
DTSTART:20181028T010000
END:STANDARD
END:VTIMEZONE
BEGIN:VEVENT
DTSTART;TZID=Europe/Madrid:20181031T193000
DTEND;TZID=Europe/Madrid:20181031T223000
DTSTAMP:20260423T210559
CREATED:20181023T105242Z
LAST-MODIFIED:20181023T114129Z
UID:28739-1541014200-1541025000@semecaelacasaencima.com
SUMMARY:La mansión del Terror en la Peña Ciudad Deportiva de Tudela
DESCRIPTION:Será una “Mansión del Terror” con numerosos personajes a lo largo de un\nrecorrido\, que nos harán pasar un rato “terroríficamente divertido”. \nAdemás\, este año en la Peña Ciudad Deportiva han preparado ambiente de terraza en la Plaza de la Vida para amenizar la espera y un PhotoCall a la salida de la mansión para todos los participantes. \nNosotras llevamos varios años acudiendo y está muy bien. ¡No os lo perdáis!
URL:https://semecaelacasaencima.com/eventos/la-mansion-del-terror-en-la-pena-ciudad-deportiva-de-tudela/
LOCATION:Peña Ciudad Deportiva\, Calle Portal\, 8\, Tudela\, Navarra\, España
CATEGORIES:Experiencias
ATTACH;FMTTYPE=image/jpeg:https://semecaelacasaencima.com/wp-content/uploads/2018/10/Mansión-del-terror-en-la-Peña-Ciudad-Deportiva-e1540291877783.jpeg
END:VEVENT
END:VCALENDAR