BEGIN:VCALENDAR
VERSION:2.0
PRODID:-//Se me cae la casa encima - ECPv5.16.0//NONSGML v1.0//EN
CALSCALE:GREGORIAN
METHOD:PUBLISH
X-WR-CALNAME:Se me cae la casa encima
X-ORIGINAL-URL:https://semecaelacasaencima.com
X-WR-CALDESC:Eventos para Se me cae la casa encima
BEGIN:VTIMEZONE
TZID:Europe/Madrid
BEGIN:DAYLIGHT
TZOFFSETFROM:+0100
TZOFFSETTO:+0200
TZNAME:CEST
DTSTART:20170326T010000
END:DAYLIGHT
BEGIN:STANDARD
TZOFFSETFROM:+0200
TZOFFSETTO:+0100
TZNAME:CET
DTSTART:20171029T010000
END:STANDARD
END:VTIMEZONE
BEGIN:VEVENT
DTSTART;TZID=Europe/Madrid:20170128T093000
DTEND;TZID=Europe/Madrid:20170128T233000
DTSTAMP:20260424T072452
CREATED:20170116T120754Z
LAST-MODIFIED:20170116T120754Z
UID:9088-1485595800-1485646200@semecaelacasaencima.com
SUMMARY:Jornadas de la Matacía de Los Fayos
DESCRIPTION:Los Fayos celebrará el sábado 28 la XII Jornada de la Matacía\, un día festivo compartido por todos los vecinos en los que se recuerda la antigua matanza del cerdo que se hacía en el pueblo. Desde primera hora de la mañana han preparado talleres y actividades en los que se involucran decenas de personas. \nEl trabajo se reparte por sexos. Las mujeres se encargan de la elaboración de las morcillas\, rellenando las tripas con una antigua morcillera y siguiendo una receta que ha ido pasando de generación en generación. \nPor su parte\, los hombres son los responsables del rancho para la comida popular: despiezan la carne y guisan\, para todos los participantes y visitantes. \nPrograma de la Matacía de Los Fayos\n9:30 Junta de Carnes en el Salón Social \n9:45 Mini Taller sobre la Anatomía del Cerdo y procesamiento artesanal de las carnes \n10-12 Degustación tostadas de Ajo \n11:30 Taller infantil de escultura en la Sala Polivalente. Después se expondrán los trabajos en el Salón de Plenos del Ayto (máximo 14 niños) \n14:00 Comida popular con degustación de productos elaborados semestralmente (6€) \n17:00 Charla sobre elaboración de jabones artesanalmente \n21:00 Cena popular \n13:00 Actuación musical en el Salón Social \n 
URL:https://semecaelacasaencima.com/eventos/jornadas-de-la-matacia-de-los-fayos/
LOCATION:Los Fayos\, Los Fayos\, Zaragoza\, 50513\, España
CATEGORIES:Talleres
ATTACH;FMTTYPE=image/jpeg:https://semecaelacasaencima.com/wp-content/uploads/Matanza-Los-Fayos.jpeg
END:VEVENT
END:VCALENDAR