BEGIN:VCALENDAR
VERSION:2.0
PRODID:-//Se me cae la casa encima - ECPv5.16.0//NONSGML v1.0//EN
CALSCALE:GREGORIAN
METHOD:PUBLISH
X-WR-CALNAME:Se me cae la casa encima
X-ORIGINAL-URL:https://semecaelacasaencima.com
X-WR-CALDESC:Eventos para Se me cae la casa encima
BEGIN:VTIMEZONE
TZID:Europe/Madrid
BEGIN:DAYLIGHT
TZOFFSETFROM:+0100
TZOFFSETTO:+0200
TZNAME:CEST
DTSTART:20190331T010000
END:DAYLIGHT
BEGIN:STANDARD
TZOFFSETFROM:+0200
TZOFFSETTO:+0100
TZNAME:CET
DTSTART:20191027T010000
END:STANDARD
END:VTIMEZONE
BEGIN:VEVENT
DTSTART;TZID=Europe/Madrid:20190713T193000
DTEND;TZID=Europe/Madrid:20190713T210000
DTSTAMP:20260421T203720
CREATED:20190703T171634Z
LAST-MODIFIED:20190703T172100Z
UID:37744-1563046200-1563051600@semecaelacasaencima.com
SUMMARY:Fiesta con hinchables acuáticos en Torrellas
DESCRIPTION:La asociación La Filajona\, también tiene sus actividades programadas para este verano. Son actividades abiertas a la participación de todos\, y pretenden completar la oferta de Julio Cultural. \nFiesta con hinchables acuáticos\n\nSábado 13 de julio a las 19:30 h.
URL:https://semecaelacasaencima.com/eventos/fiesta-hinchables-acuaticos-2019-torrellas/
LOCATION:Torrellas\, Torrellas\, Zaragoza\, 50512\, España
CATEGORIES:Calle,Fiestas
ATTACH;FMTTYPE=image/jpeg:https://semecaelacasaencima.com/wp-content/uploads/2019/07/FIESTAS-CON-HINCHABLES-ACUÁTICOS-2019-TORRELLAS.jpg
END:VEVENT
END:VCALENDAR