BEGIN:VCALENDAR
VERSION:2.0
PRODID:-//Se me cae la casa encima - ECPv5.16.0//NONSGML v1.0//EN
CALSCALE:GREGORIAN
METHOD:PUBLISH
X-WR-CALNAME:Se me cae la casa encima
X-ORIGINAL-URL:https://semecaelacasaencima.com
X-WR-CALDESC:Eventos para Se me cae la casa encima
BEGIN:VTIMEZONE
TZID:Europe/Madrid
BEGIN:DAYLIGHT
TZOFFSETFROM:+0100
TZOFFSETTO:+0200
TZNAME:CEST
DTSTART:20190331T010000
END:DAYLIGHT
BEGIN:STANDARD
TZOFFSETFROM:+0200
TZOFFSETTO:+0100
TZNAME:CET
DTSTART:20191027T010000
END:STANDARD
END:VTIMEZONE
BEGIN:VEVENT
DTSTART;TZID=Europe/Madrid:20191222T123000
DTEND;TZID=Europe/Madrid:20191222T140000
DTSTAMP:20260425T025549
CREATED:20191212T114023Z
LAST-MODIFIED:20191221T161825Z
UID:42072-1577017800-1577023200@semecaelacasaencima.com
SUMMARY:Festival Navidad patinaje artístico en Tudela
DESCRIPTION:El club patín de Tudela ha organizado su festival de Navidad para el próximo domingo 22 de diciembre a las 12:30 h en el Polideportivo municipal de Tudela
URL:https://semecaelacasaencima.com/eventos/festival-navidad-patinaje-artistico-en-tudela/
LOCATION:Polideportivo Ciudad de Tudela\, Avenida República Argentina\, s/n\, Tudela\, Navarra\, 31500\, España
CATEGORIES:Deporte,Destacados,Festival
ATTACH;FMTTYPE=image/jpeg:https://semecaelacasaencima.com/wp-content/uploads/2019/12/FESTIVAL-NAVIDAD-2019-PATINAJE-ARTÍSTICO-TUDELA.jpg
END:VEVENT
END:VCALENDAR