BEGIN:VCALENDAR
VERSION:2.0
PRODID:-//Se me cae la casa encima - ECPv5.16.0//NONSGML v1.0//EN
CALSCALE:GREGORIAN
METHOD:PUBLISH
X-WR-CALNAME:Se me cae la casa encima
X-ORIGINAL-URL:https://semecaelacasaencima.com
X-WR-CALDESC:Eventos para Se me cae la casa encima
BEGIN:VTIMEZONE
TZID:Europe/Madrid
BEGIN:DAYLIGHT
TZOFFSETFROM:+0100
TZOFFSETTO:+0200
TZNAME:CEST
DTSTART:20160327T010000
END:DAYLIGHT
BEGIN:STANDARD
TZOFFSETFROM:+0200
TZOFFSETTO:+0100
TZNAME:CET
DTSTART:20161030T010000
END:STANDARD
END:VTIMEZONE
BEGIN:VEVENT
DTSTART;VALUE=DATE:20160701
DTEND;VALUE=DATE:20160703
DTSTAMP:20260424T072914
CREATED:20160626T193051Z
LAST-MODIFIED:20160705T203721Z
UID:3634-1467331200-1467503999@semecaelacasaencima.com
SUMMARY:Fardelej Festival\, en Arnedo
DESCRIPTION:El Fardelej Música&Vida Festival\, es uno de esos festivales de verano que nos hace morir de envidia. Aunque el grueso del festival es el 1 y 2 de julio\, el programa comienza el 26 de junio. Además de varios escenarios musicales\, zona de acampada y mucha diversión\, talleres para toda la familia\, visitas\, catas\, degustaciones…y almuerzo riojano. \nLa cuarta edición de este festival que se celebrará en Arnedo los días 1 y 2 de Julio\, presenta una programación que comienza el lunes 26 de junio\, con catas de chocolate\, quesos\, cerveza o vino\, visitas a bodegas\, al obrador donde hacen los Fardelejos o a las cuevas de los alrededores de Arnedo. \nEl jueves 30 habrá una proyección de cortos del Festival sobre Vino y Gastronomía WIN FESTIVAL’15\, una selección de los cortometrajes presentados al primer certamen ‘Win5 Festival’ organizado en 2015 por La Rioja Capital dentro de su programa ‘El Rioja y los 5 Sentidos’. En esta velada se proyectarán tanto las obras ganadoras como una selección de todos los participantes. Los ganadores fueron los cortometrajes ‘Elkartea’\, de Kote Camacho; ‘Taba\, juego en la Mesa’\, de Pep Gatell y Eloi Colom; y el corto riojano ‘La Yerma’\, de Roberto del Val. En total se presentaron 62 obras de autores de España\, Grecia\, Estados Unidos\, Colombia\, Italia\, Alemania\, Irán\, Polonia\, Ecuador y Sudáfrica \nPodréis aprender a estampar un Tote Bag\, diseña tu propio capazo o a crear imanes para la nevera. Un Vintage Market\, que pretende ser un encuentro de nuevas propuestas\, promoción de diseñadores y artistas independientes\, un lugar de intercambio\, de líneas de moda no comerciales y una nueva forma de comprar y vender\, una nueva forma de vivir el Fárdelej Festival. \nAquí tenéis todo el programa del Fardelej Music & vida Festival. 
URL:https://semecaelacasaencima.com/eventos/fardelej-festival-arnedo/
LOCATION:Arnedo\, Arnedo\, La Rioja\, 26580\, España
CATEGORIES:Festival
ATTACH;FMTTYPE=image/jpeg:https://semecaelacasaencima.com/wp-content/uploads/header-fardelej-festival-2016-e1466969415847.jpg
END:VEVENT
END:VCALENDAR