BEGIN:VCALENDAR
VERSION:2.0
PRODID:-//Se me cae la casa encima - ECPv5.16.0//NONSGML v1.0//EN
CALSCALE:GREGORIAN
METHOD:PUBLISH
X-WR-CALNAME:Se me cae la casa encima
X-ORIGINAL-URL:https://semecaelacasaencima.com
X-WR-CALDESC:Eventos para Se me cae la casa encima
BEGIN:VTIMEZONE
TZID:Europe/Madrid
BEGIN:DAYLIGHT
TZOFFSETFROM:+0100
TZOFFSETTO:+0200
TZNAME:CEST
DTSTART:20190331T010000
END:DAYLIGHT
BEGIN:STANDARD
TZOFFSETFROM:+0200
TZOFFSETTO:+0100
TZNAME:CET
DTSTART:20191027T010000
END:STANDARD
END:VTIMEZONE
BEGIN:VEVENT
DTSTART;TZID=Europe/Madrid:20191222T180000
DTEND;TZID=Europe/Madrid:20191222T210000
DTSTAMP:20260425T014614
CREATED:20191217T140210Z
LAST-MODIFIED:20191217T140210Z
UID:42132-1577037600-1577048400@semecaelacasaencima.com
SUMMARY:Espectáculo de videomapping sobre la Casa del Reloj\, en Tudela
DESCRIPTION:Por primera vez en Tudela podremos disfrutar de un espectáculo de videomapping sobre la Casa del Reloj.  \nCuento de Navidad será el show de luces y música que disfrutaremos\,a partir de las 18:00 horas el domingo 22 de diciembre. ¡Precioso!
URL:https://semecaelacasaencima.com/eventos/espectaculo-de-videomapping-sobre-la-casa-del-reloj-en-tudela/
LOCATION:Plaza de los Fueros de Tudela\, Plaza de los Fueros\, Tudela\, NAVARRA\, 31500\, España
CATEGORIES:Calle
ATTACH;FMTTYPE=image/jpeg:https://semecaelacasaencima.com/wp-content/uploads/2019/12/Video-mapping-casa-del-reloj-2019.jpeg
END:VEVENT
END:VCALENDAR