BEGIN:VCALENDAR
VERSION:2.0
PRODID:-//Se me cae la casa encima - ECPv5.16.0//NONSGML v1.0//EN
CALSCALE:GREGORIAN
METHOD:PUBLISH
X-WR-CALNAME:Se me cae la casa encima
X-ORIGINAL-URL:https://semecaelacasaencima.com
X-WR-CALDESC:Eventos para Se me cae la casa encima
BEGIN:VTIMEZONE
TZID:Europe/Madrid
BEGIN:DAYLIGHT
TZOFFSETFROM:+0100
TZOFFSETTO:+0200
TZNAME:CEST
DTSTART:20160327T010000
END:DAYLIGHT
BEGIN:STANDARD
TZOFFSETFROM:+0200
TZOFFSETTO:+0100
TZNAME:CET
DTSTART:20161030T010000
END:STANDARD
END:VTIMEZONE
BEGIN:VEVENT
DTSTART;TZID=Europe/Madrid:20160503T170000
DTEND;TZID=Europe/Madrid:20160503T190000
DTSTAMP:20260424T072615
CREATED:20160501T211938Z
LAST-MODIFIED:20170424T182114Z
UID:1763-1462294800-1462302000@semecaelacasaencima.com
SUMMARY:Día del Cristo en Tudela
DESCRIPTION:Recuperando latradicional romería a la Ermita del Cristo\, la Orden del Volatín organiza el reparto de 700culecas en la explanada frente a la ermita. Allí podremos merendar\, si el tiempo lo permite y disfrutar de un espectáculo de títeres y de los niños subiendo y bajando la ladera. \nEs típico comer culecas el Día del Cristo. Bollos deliciosos con huevo duro dentro como símbolo de la fertilidad. Y algunas madres previsoras se llevan la tableta de chocolate para satisfacer al máximo a sus peques. \n17:00 h. Entrega de 700 “Culecas” a niños de colegios de Tudela.\nEl buen tiempo permite pasar la tarde al aire libre y gracias a que la policía local de Tudela cierra el perímetro para vehículos los peligros son menos. Como siempre\, se cuenta con la presencia de Protección Civil de Tudela y muchos voluntarios. ¿Nos vemos allí?
URL:https://semecaelacasaencima.com/eventos/dia-del-cristo-tudela/
LOCATION:Ermita del Cristo\, Calle Padre Ubillos\, 27\, Tudela\, Navarra\, 31500\, España
ATTACH;FMTTYPE=image/jpeg:https://semecaelacasaencima.com/wp-content/uploads/2016/05/cristo1.jpg
END:VEVENT
END:VCALENDAR