BEGIN:VCALENDAR
VERSION:2.0
PRODID:-//Se me cae la casa encima - ECPv5.16.0//NONSGML v1.0//EN
CALSCALE:GREGORIAN
METHOD:PUBLISH
X-WR-CALNAME:Se me cae la casa encima
X-ORIGINAL-URL:https://semecaelacasaencima.com
X-WR-CALDESC:Eventos para Se me cae la casa encima
BEGIN:VTIMEZONE
TZID:Europe/Madrid
BEGIN:DAYLIGHT
TZOFFSETFROM:+0100
TZOFFSETTO:+0200
TZNAME:CEST
DTSTART:20180325T010000
END:DAYLIGHT
BEGIN:STANDARD
TZOFFSETFROM:+0200
TZOFFSETTO:+0100
TZNAME:CET
DTSTART:20181028T010000
END:STANDARD
END:VTIMEZONE
BEGIN:VEVENT
DTSTART;TZID=Europe/Madrid:20180403T073000
DTEND;TZID=Europe/Madrid:20180403T150000
DTSTAMP:20260423T234611
CREATED:20180313T125057Z
LAST-MODIFIED:20180313T125057Z
UID:21718-1522740600-1522767600@semecaelacasaencima.com
SUMMARY:Colonias de Semana Santa en Elvira España
DESCRIPTION:Desde la Apyma Elvira España se organizan\, en el centro\, colonias urbanas para los días de vacaciones de Semana Santa. Son actividades abiertas para todos los niños y niñas de infantil y primaria que quieran acudir.  \nHay que reservar previamente en el 605 90 34 91. Hay descuentos para hermanos.  \nSe propone servicio de comedor y madrugadores. ¿Quién da más? Campamento completo desde las 7:30 de la mañana hasta las 15:00 h.\, para quién lo necesite. 
URL:https://semecaelacasaencima.com/eventos/colonias-de-semana-santa-en-elvira-espana/
CATEGORIES:Talleres
ATTACH;FMTTYPE=image/jpeg:https://semecaelacasaencima.com/wp-content/uploads/Colonias-Semana-Santa-Apyma.jpeg
END:VEVENT
END:VCALENDAR