BEGIN:VCALENDAR
VERSION:2.0
PRODID:-//Se me cae la casa encima - ECPv5.16.0//NONSGML v1.0//EN
CALSCALE:GREGORIAN
METHOD:PUBLISH
X-WR-CALNAME:Se me cae la casa encima
X-ORIGINAL-URL:https://semecaelacasaencima.com
X-WR-CALDESC:Eventos para Se me cae la casa encima
BEGIN:VTIMEZONE
TZID:Europe/Madrid
BEGIN:DAYLIGHT
TZOFFSETFROM:+0100
TZOFFSETTO:+0200
TZNAME:CEST
DTSTART:20160327T010000
END:DAYLIGHT
BEGIN:STANDARD
TZOFFSETFROM:+0200
TZOFFSETTO:+0100
TZNAME:CET
DTSTART:20161030T010000
END:STANDARD
END:VTIMEZONE
BEGIN:VEVENT
DTSTART;TZID=Europe/Madrid:20161120T100000
DTEND;TZID=Europe/Madrid:20161120T140000
DTSTAMP:20260424T072430
CREATED:20161005T070400Z
LAST-MODIFIED:20161005T070400Z
UID:5931-1479636000-1479650400@semecaelacasaencima.com
SUMMARY:Carrera Popular de Amimet\, en Tudela
DESCRIPTION:El próximo 20 de Noviembre\, domingo\, tendra lugar la XXVIII Carrera Popular de AMIMET. Se celebrará en el lugar habitual\, el Barrio de Lourdes y discurrirá por el recorrido acostumbrado. \nPueden participar personas con y sin discapacidad\, y desde prebenjamines a veteranos. \nSi estáis decididos a participar ya podéis inscribiros\, solo tenéis que ir siguiendo los pasos y poner vuestros datos en el cuadro de abajo. \nSe avisará a las personas inscritas cuando estén disponibles los dorsales\, que se recogerán en AMIMET hasta el viernes 18 de Noviembre a la 13:30h y también en la plaza del Padre Lasa el mismo día de la Carrera Popular. \nSi no llegáis a tiempo a inscribiros via web (aquí podéis hacerlo) también podéis hacerlo el mismo día de la carrera. \nPodéis ver el díptico con toda la información pinchando aqui. \n 
URL:https://semecaelacasaencima.com/eventos/carrera-popular-amimet-tudela/
LOCATION:Barrio de Lourdes\, Tudela\, Navarra\, 31500\, España
CATEGORIES:Carreras
ATTACH;FMTTYPE=image/jpeg:https://semecaelacasaencima.com/wp-content/uploads/carrera-popular-Amimet.jpg
END:VEVENT
END:VCALENDAR